BEGIN:VCALENDAR
VERSION:2.0
PRODID:-//ChamberMaster//Event Calendar 2.0//EN
METHOD:PUBLISH
X-PUBLISHED-TTL:P3D
REFRESH-INTERVAL:P3D
CALSCALE:GREGORIAN
BEGIN:VEVENT
DTSTART:20040219T200500Z
DTEND:20040219T200500Z
X-MICROSOFT-CDO-ALLDAYEVENT:FALSE
SUMMARY:Candidates Forum 2004
DESCRIPTION:
X-ALT-DESC;FMTTYPE=text/html:
LOCATION:
UID:e.856.52
SEQUENCE:3
DTSTAMP:20260420T115118Z
URL:https://business.greaterirvinechamber.com/events/details/candidates-forum-2004-02-19-2004-52
END:VEVENT

END:VCALENDAR
