BEGIN:VCALENDAR
VERSION:2.0
PRODID:-//ChamberMaster//Event Calendar 2.0//EN
METHOD:PUBLISH
X-PUBLISHED-TTL:P3D
REFRESH-INTERVAL:P3D
CALSCALE:GREGORIAN
BEGIN:VEVENT
DTSTART:20260425T163000Z
DTEND:20260425T183000Z
X-MICROSOFT-CDO-ALLDAYEVENT:FALSE
SUMMARY:Rule of 72\, Wealth Formula\, Financial Workshop 4
DESCRIPTION:Financial Literacy Class - Saturday 9:30am\n\nIrvine Spectrum Area\n\nFinancial Workshop 4: Your Health & Wealth\n\nFinancial Literacy_Irvine Financial Center\n \n\nAgenda\n\n9:30 - 10 am: MoZone\, Facility Tour\, Networking\, Introductions\n\n10 - 10:15 am Classroom 1: Recognition\n\n10:15 - 11 am Classroom 2: Introduction Presentation\n\n10:15 - 11 am Classroom 1: Advanced Business Training\n\n10:15 - 11 am Classroom 3: Financial Workshop 4: Your Health & Wealth\n\n11 - 12:15 pm Classroom 1: Leader Message\n\n.\n\nCome for some referral partnership development and introduce your business to these professionals? \n\nEvery Saturday 9:30 am and every Tuesday 7 pm.\n\n.\n\nThis office also speaks Vietnamese\, Spanish\, Mandarin\, Farsi\, Hindi\, Tagalog\, Japanese and more!\n\n.\n\n.\n\nFor details & this week's topic:\n\nTEXT (949) 424-7737\n\nTopics subject to change.
X-ALT-DESC;FMTTYPE=text/html:<h2 style="font-style:italic">Financial Literacy Class - Saturday 9:30am<br />\nIrvine Spectrum Area</h2>\n\n<h3>Financial Workshop 4: Your Health &amp\; Wealth</h3>\n\n<h3>Financial Literacy_Irvine Financial Center</h3>\n&nbsp\;\n\n<p>Agenda</p>\n\n<p>9:30 - 10 am: MoZone\, Facility Tour\, Networking\, Introductions</p>\n\n<p>10 - 10:15 am Classroom 1: Recognition</p>\n\n<p>10:15 - 11 am Classroom 2: Introduction Presentation</p>\n\n<p>10:15 - 11 am Classroom 1: Advanced Business Training</p>\n\n<p>10:15 - 11 am Classroom 3: Financial Workshop 4: Your Health &amp\; Wealth</p>\n\n<p>11 - 12:15 pm Classroom 1: Leader Message</p>\n\n<p>.</p>\n\n<p>Come for some referral partnership development and introduce your business to these professionals?&nbsp\;</p>\n\n<p>Every Saturday 9:30 am and every Tuesday 7 pm.</p>\n\n<p>.<br />\nThis office also speaks Vietnamese\, Spanish\, Mandarin\, Farsi\, Hindi\, Tagalog\, Japanese and more!</p>\n\n<p>.<br />\n.<br />\n<span style="font-family:roboto\,arial\,sans-serif\; font-size:14px">For details &amp\; this week&rsquo\;s topic:</span><br />\n<span style="font-family:roboto\,arial\,sans-serif">TEXT (949) 424-7737</span><br />\n<u><em>Topics subject to change.</em></u></p>\n
LOCATION:Irvine Spectrum area
UID:e.856.27067
SEQUENCE:3
DTSTAMP:20260423T090219Z
URL:https://business.greaterirvinechamber.com/events/details/rule-of-72-wealth-formula-financial-workshop-4-04-25-2026-27067
END:VEVENT

END:VCALENDAR
